Workbook

Sheet 总表
A1: 附件1 项目评估需求表
B2: 区域 | C2: 类别 | D2: 楼层 | E2: 功能 | F2: 租赁面积（m²） | H2: 店面/摊位 数量 | I2: 备注 | J2: 需求
A3: 1 | B3: A区 | C3: 店面 | D3: 一层 | E3: 水产 | F3: 22213.025 | G3: 22067.555 | H3: 317 | I3: 详见附表1 | J3: 每个店铺进行单独的租赁价格评估，需按以下标准进行区分： 1.位置优劣； 2.承租物类型（店面/摊位）； 3.楼层； 4.功能业态。
E4: 非水产 | F4: 185.435 | G4: 334.905
D5: 二层 | E5: 水产 | F5: 19372.755 | G5: 3550.98
E6: 非水产 | F6: 138.755 | G6: 18340.68
E7: 餐饮 | F7: 2380.15 | G7: 60
C8: 摊位 | E8: 非水产 | F8: 157.32
B9: B区 | C9: 店面 | D9: 一层 | E9: 水产 | F9: 7588 | G9: 7588 | H9: 119 | I9: 详见附表2
E10: 非水产 | F10: 273 | G10: 576
E11: 金融 | F11: 250 | G11: 141
D12: 二层 | E12: 水产 | F12: 5708 | G12: 4925
E13: 餐饮 | F13: 139 | G13: 8316
E14: 电商 | F14: 7788.55
C15: 公寓 | D15: 二层 | E15: 公寓 | F15: 2014
C16: 办公 | D16: 三层 | E16: 办公 | F16: 53
D17: 四层 | E17: 办公 | F17: 300
C18: 摊位 | E18: 水产 | F18: 170
B19: C区 | C19: 店面 | D19: 一层 | E19: 水产 | F19: 5611.5 | G19: 6692.25 | H19: 124 | I19: 详见附表3
E20: 非水产 | F20: 91 | G20: 180
D21: 二层 | E21: 水产 | F21: 1300
E22: 餐饮 | F22: 100
C23: 摊位 | E23: 水产 | F23: 1170
B24: D区 | C24: 店面 | D24: 一层 | E24: 水产 | F24: 4848.635 | G24: 4913.25 | H24: 281 | I24: 详见附表4
E25: 非水产 | F25: 98.45 | G25: 98.45
D26: 二层 | E26: 公寓 | F26: 5324 | G26: 5496
C27: 摊位 | E27: 水产 | F27: 3776.9 | G27: 3668.9
B28: E区 | C28: 店面 | D28: 一层 | E28: 水产 | F28: 2484 | G28: 2568 | H28: 165 | I28: 详见附表5
E29: 非水产 | F29: 77 | G29: 21
D30: 二层 | E30: 公寓 | F30: 2250 | G30: 2250
C31: 摊位 | E31: 水产 | F31: 1552.2 | G31: 1426.2
B32: P区 | C32: 店面 | D32: 一层 | E32: 水产 | F32: 5235 | G32: 5174 | H32: 93 | I32: 详见附表6
E33: 非水产 | F33: 110 | G33: 171
C34: 摊位 | E34: 水产 | F34: 583 | G34: 583
B35: P区 | C35: 配套公寓楼 | E35: 公寓 | F35: 24945 | G35: 24930 | H35: 474
B36: 北堤 | C36: 店面 | E36: 水产 | F36: 3502 | G36: 3798 | H36: 17 | I36: 详见附表7
E37: 餐饮 | F37: 272 | G37: 224
A38: 合计 | F38: =SUM(F3:F37) -> 132061.67 | H38: 1590
A39: 备注：租赁年限拟设定为5年，在5年期限内的租金递增率。
F40: =F38-F35-F30-F15-F26 -> 97528.675

Sheet 评估结果汇总
D3: 夏商国际水产城租金评估汇总
D4: 序号 | E4: 项目 | F4: 面积（㎡） | G4: 总租金（元/月） | H4: 自用面积
A5: 317 | C5: =A5-B5 -> 317 | D5: 1 | E5: A区 | F5: 44447.44 | G5: ='A区 '!#REF! -> #REF! | H5: 252 | I5: =F5+H5 -> 44699.44 | K5: 1 | N5: =F5-M5 -> 44447.44 | P5: 44241.23 | Q5: =N5-P5 -> 206.21
A6: 119 | B6: 28 | C6: =A6-B6 -> 91 | D6: 2 | E6: B区 | F6: 24283.55 | G6: =B区!#REF! -> #REF! | H6: 186 | I6: =F6+H6 -> 24469.55 | K6: 1 | M6: 2014 | N6: =F6-M6 -> 22269.55 | P6: 13878 | Q6: =N6-P6 -> 8391.55
A7: 124 | C7: =A7-B7 -> 124 | D7: 3 | E7: C区 | F7: =C区!G75 -> 0 | G7: =C区!#REF! -> #REF! | I7: =F7 -> 0 | N7: =F7-M7 -> 0 | P7: 8272.5 | Q7: =N7-P7 -> -8272.5
A8: 193 | C8: =A8-B8 -> 193 | D8: 4 | E8: D区 | F8: 14047.985 | G8: =#REF! -> #REF! | H8: 236.66 | I8: =H8+F8 -> 14284.645 | J8: =64.66+8+44+60+60 -> 236.66 | K8: 5 | M8: 5324 | N8: =F8-M8 -> 8723.985 | P8: 8691.985 | Q8: =N8-P8 -> 32
A9: 165 | B9: 45 | C9: =A9-B9 -> 120 | D9: 5 | E9: E区 | F9: 6363.2 | G9: =#REF! -> #REF! | H9: =28+126 -> 154 | I9: =F9+H9 -> 6517.2 | K9: 2 | M9: 2250 | N9: =F9-M9 -> 4113.2 | P9: 3987.2 | Q9: =N9-P9 -> 126
A10: 93 | C10: =A10-B10 -> 93 | D10: 6 | E10: P区 | F10: =P区店面!C94 -> 5856 | G10: =P区店面!#REF! -> #REF! | I10: =F10 -> 5856 | N10: =F10-M10 -> 5856 | P10: 5856 | Q10: =N10-P10 -> 0
A11: 17 | C11: =A11-B11 -> 17 | D11: 7 | E11: 北堤 | F11: 3774 | G11: =北堤!#REF! -> #REF! | H11: 2085.57 | I11: =F11+H11 -> 5859.57 | K11: 5 | N11: =F11-M110 -> 3774 | P11: 3272 | Q11: =N11-P11 -> 502
C12: =A12-B12 -> 0 | D12: 8 | E12: P区配套公寓楼 | F12: 24945 | G12: 481600 | I12: =F12 -> 24945 | M12: 24945 | N12: =F12-M12 -> 0
C13: =SUM(C5:C12) -> 955 | D13: 合计 | F13: =SUM(F5:F12) -> 123717.18 | G13: =SUM(G5:G12) -> #REF! | I13: =SUM(I5:I12) -> 126631.41 | M13: =SUM(M6:M12) -> 34533 | N13: =F13-M13 -> 89184.175
H15: =SUM(H5:H14) -> 2914.23 | I15: =I13-F13 -> 2914.24 | M15: =F13-M13 -> 89184.175

Sheet A区 
A1: 夏商国际水产城A区
A2: 序号 | B2: 店号 | C2: 一层面积（㎡） | D2: 用途 | E2: 二层面积（㎡） | F2: 用途
A3: 1 | B3: A001 | C3: 76.49 | D3: 水产经营
A4: 2 | B4: A002 | C4: 76.49 | D4: 水产经营
A5: 3 | B5: A003 | C5: 76.49 | D5: 水产经营
A6: 4 | B6: A004 | C6: 76.49 | D6: 水产经营
A7: 5 | B7: A005 | C7: 76.475 | D7: 水产经营 | E7: 76.475 | F7: 水产经营
A8: 6 | B8: A006 | C8: 76.49 | D8: 水产经营 | E8: 76.49 | F8: 水产经营
A9: 7 | B9: A007 | C9: 76.49 | D9: 水产经营 | E9: 76.49 | F9: 水产经营
A10: 8 | B10: A008 | C10: 76.49 | D10: 水产经营 | E10: 76.49 | F10: 水产经营
A11: 9 | B11: A009 | C11: 76.49 | D11: 水产经营 | E11: 76.49 | F11: 水产经营
A12: 10 | B12: A010 | C12: 76.475 | D12: 水产经营 | E12: 76.475 | F12: 水产经营
A13: 11 | B13: A011 | C13: 89.72 | D13: 水产经营 | E13: 89.72 | F13: 水产经营
A14: 12 | B14: A012 | C14: 95.7 | D14: 水产经营 | E14: 95.7 | F14: 水产经营
A15: 13 | B15: A013 | C15: 95.7 | D15: 水产经营 | E15: 95.7 | F15: 水产经营
A16: 14 | B16: A014 | C16: 95.7 | D16: 水产经营 | E16: 95.7 | F16: 水产经营
A17: 15 | B17: A015 | C17: 99.33 | D17: 水产经营 | E17: 99.33 | F17: 水产经营
A18: 16 | B18: A016 | C18: 99.33 | D18: 水产经营 | E18: 99.33 | F18: 水产经营
... A23: 21 | B23: A021-1 | C23: 85.47 | D23: 水产经营 | E23: 132.15 | F23: 水产经营
A24: 22 | B24: A021-2 | C24: 46.68 | D24: 非水产经营
A25: 23 | B25: A022 | C25: 76.49 | D25: 水产经营 | E25: 76.49 | F25: 水产经营
A26: 24 | B26: A023 | C26: 76.49 | D26: 水产经营 | E26: 76.49 | F26: 水产经营
A27: 25 | B27: A024 | C27: 76.49 | D27: 水产经营 | E27: 76.49 | F27: 水产经营
A28: 26 | B28: A025 | C28: 76.49 | D28: 水产经营 | E28: 76.49 | F28: 水产经营
A29: 27 | B29: A026 | C29: 89.72 | D29: 水产经营 | E29: 89.72 | F29: 水产经营
A30: 28 | B30: A027 | C30: 77.055 | D30: 水产经营 | E30: 77.055 | F30: 水产经营
A31: 29 | B31: A028 | C31: 75.525 | D31: 水产经营 | E31: 75.525 | F31: 水产经营
A32: 30 | B32: A029 | C32: 75.525 | D32: 水产经营 | E32: 75.525 | F32: 水产经营
A33: 31 | B33: A030 | C33: 75.525 | D33: 水产经营 | E33: 75.525 | F33: 水产经营
A34: 32 | B34: A031 | C34: 75.525 | D34: 水产经营 | E34: 75.525 | F34: 水产经营
A35: 33 | B35: A032 | C35: 75.525 | D35: 水产经营 | E35: 75.525 | F35: 水产经营
A36: 34 | B36: A033 | C36: 75.525 | D36: 水产经营 | E36: 75.525 | F36: 水产经营
... A303: 301 | B303: A301 | C303: 81.015 | D303: 水产经营 | E303: 81.015 | F303: 水产经营
A304: 302 | B304: A302 | C304: 43.26 | D304: 水产经营
A305: 303 | B305: A303 | C305: 43.26 | D305: 水产经营
A306: 304 | B306: A304 | C306: 25.08 | D306: 水产经营
A307: 305 | B307: A305 | C307: 85.095 | D307: 水产经营 | E307: 85.095 | F307: 水产经营
A308: 306 | B308: A306 | C308: 86.47 | D308: 水产经营 | E308: 86.47 | F308: 水产经营
A309: 307 | B309: A307 | C309: 86.47 | D309: 水产经营 | E309: 86.47 | F309: 餐饮
A310: 308 | B310: A308 | C310: 86.47 | D310: 水产经营 | E310: 86.47 | F310: 餐饮
...

Sheet B区
A1: 夏商国际水产城B区
A2: 序号 | B2: 店号 | C2: 面积（㎡） | E2: 用途 | F2: 二层面积（㎡） | G2: 用途
A3: 1 | B3: B01 | F3: 92 | G3: 水产经营
A4: 2 | B4: B01-1 | C4: 92 | E4: 水产经营
A5: 3 | B5: B02 | C5: 139 | E5: 水产经营 | F5: 139 | G5: 水产经营
A6: 4 | B6: B03 | C6: 139 | E6: 水产经营 | F6: 139 | G6: 水产经营
A7: 5 | B7: B04 | C7: 139 | E7: 水产经营 | F7: 139 | G7: 水产经营
A8: 6 | B8: B05 | C8: 139 | E8: 水产经营 | F8: 139 | G8: 水产经营
A9: 7 | B9: B06 | C9: 139 | E9: 水产经营 | F9: 139 | G9: 水产经营
A10: 8 | B10: B07 | C10: 139 | E10: 水产经营 | F10: 139 | G10: 水产经营
A11: 9 | B11: B08 | C11: 173 | E11: 水产经营 | F11: 173 | G11: 水产经营
A12: 10 | B12: B09 | C12: 139 | E12: 水产经营 | F12: 139 | G12: 水产经营
A13: 11 | B13: B10 | C13: 134 | E13: 水产经营 | F13: 134 | G13: 水产经营
A14: 12 | B14: B11 | C14: 139 | E14: 水产经营 | F14: 139 | G14: 水产经营
A15: 13 | B15: B12 | C15: 139 | E15: 水产经营 | F15: 139 | G15: 水产经营
A16: 14 | B16: B13 | C16: 139 | E16: 水产经营 | F16: 139 | G16: 水产经营
... A50: 48 | B50: B43 | C50: 139 | E50: 水产经营 | F50: 139 | G50: 水产经营
A51: 49 | B51: BT01 | C51: 50 | E51: 水产经营 | G51: 水产经营
A52: 50 | B52: BT02 | C52: 120 | E52: 水产经营 | G52: 水产经营
A53: 51 | B53: B50-2 | C53: 70 | D53: 70 | E53: 水产经营
A54: 52 | B54: B51-1 | C54: 67 | D54: 67 | E54: 水产经营
A55: 53 | B55: B51-2 | C55: 67 | D55: 67 | E55: 水产经营
A56: 合计 | C56: =SUM(C3:C55) -> 6221 | D56: =SUM(D3:D52) -> 0 | F56: =SUM(F3:F52) -> 5847

Sheet C区
A1: 夏商国际水产城C区
A2: 序号 | B2: 店号 | C2: 一层面积（㎡） | D2: 用途 | F2: 二层面积（㎡） | G2: 用途
A3: 1 | B3: CP001 | C3: 125 | D3: 水产经营 | E3: =C3*#REF! -> #REF! | F3: 100 | G3: 水产经营
A4: 2 | B4: CP002 | C4: 125 | D4: 水产经营 | E4: =C4*#REF! -> #REF! | F4: 100 | G4: 水产经营
A5: 3 | B5: CP003 | C5: 125 | D5: 水产经营 | E5: =C5*#REF! -> #REF! | F5: 100 | G5: 水产经营
A6: 4 | B6: CP004 | C6: 125 | D6: 水产经营 | E6: =C6*#REF! -> #REF! | F6: 100 | G6: 餐饮
A7: 5 | B7: CP005 | C7: 125 | D7: 水产经营 | E7: =C7*#REF! -> #REF! | F7: 100 | G7: 水产经营
A8: 6 | B8: CP006 | C8: 125 | D8: 水产经营 | E8: =C8*#REF! -> #REF! | F8: 100 | G8: 水产经营
A9: 7 | B9: CP007 | C9: 62.5 | D9: 水产经营 | E9: =C9*#REF! -> #REF! | F9: 100 | G9: 水产经营
A10: 8 | B10: CP008 | C10: 125 | D10: 水产经营 | E10: =C10*#REF! -> #REF! | F10: 100 | G10: 水产经营
A11: 9 | B11: CP009 | C11: 125 | D11: 水产经营 | E11: =C11*#REF! -> #REF! | F11: 100 | G11: 水产经营
A12: 10 | B12: CP010 | C12: 125 | D12: 水产经营 | E12: =C12*#REF! -> #REF! | F12: 100 | G12: 水产经营
A13: 11 | B13: CP011 | C13: 125 | D13: 水产经营 | E13: =C13*#REF! -> #REF! | F13: 100 | G13: 水产经营
A14: 12 | B14: CP012 | C14: 125 | D14: 水产经营 | E14: =C14*#REF! -> #REF! | F14: 100 | G14: 水产经营
... A16: 14 | B16: CP014-1 | C16: 89 | D16: 水产经营 | E16: =C16*#REF! -> #REF! | F16: 100 | G16: 水产经营
A17: 15 | B17: CP014-2 | C17: 36 | D17: 非水产经营 | E17: =C17*#REF! -> #REF!
A18: 16 | B18: CP028 | C18: 45 | D18: 水产经营 | E18: =C18*#REF! -> #REF!
A19: 17 | B19: CP029 | C19: 45 | D19: 水产经营 | E19: =C19*#REF! -> #REF!
A20: 18 | B20: CP030 | C20: 45 | D20: 水产经营 | E20: =C20*#REF! -> #REF!
A21: 19 | B21: CP031 | C21: 45 | D21: 水产经营 | E21: =C21*#REF! -> #REF!
A22: 20 | B22: CP032 | C22: 45 | D22: 水产经营 | E22: =C22*#REF! -> #REF!
A23: 21 | B23: CP033 | C23: 45 | D23: 水产经营 | E23: =C23*#REF! -> #REF!
A24: 22 | B24: CP034 | C24: 45 | D24: 水产经营 | E24: =C24*#REF! -> #REF!
A25: 23 | B25: CP035 | C25: 45 | D25: 水产经营 | E25: =C25*#REF! -> #REF!
A26: 24 | B26: CP036 | C26: 45 | D26: 水产经营 | E26: =C26*#REF! -> #REF!
A27: 25 | B27: CP037 | C27: 45 | D27: 水产经营 | E27: =C27*#REF! -> #REF!
A28: 26 | B28: CP038 | C28: 45 | D28: 水产经营 | E28: =C28*#REF! -> #REF!
... A72: 70 | B72: CP082 | C72: 45 | D72: 水产经营 | E72: =C72*#REF! -> #REF!
B73: 合计 | C73: =SUM(C3:C72) -> 4162.5 | D73: =SUM(D3:D72) -> 0 | E73: =SUM(E3:E72) -> #REF! | F73: =SUM(F3:F72) -> 1400 | G73: =SUM(G3:G72) -> 0
E75: =E73/C73 -> #REF!

Sheet P区店面
A1: 夏商国际水产城P区
A2: 序号 | B2: 店号 | C2: 面积（㎡） | D2: 用途
A3: 1 | B3: P101 | C3: 86 | D3: 水产经营
A4: 2 | B4: P102 | C4: 61 | D4: 水产经营
A5: 3 | B5: P105 | C5: 38 | D5: 水产经营
A6: 4 | B6: P106 | C6: 61 | D6: 水产经营
A7: 5 | B7: P107 | C7: 61 | D7: 水产经营
A8: 6 | B8: P108 | C8: 61 | D8: 水产经营
A9: 7 | B9: P109 | C9: 61 | D9: 水产经营
A10: 8 | B10: P110-1 | C10: 30.5 | D10: 水产经营
A11: 9 | B11: P110-2 | C11: 30.5 | D11: 水产经营
A12: 10 | B12: P111 | C12: 61 | D12: 水产经营
A13: 11 | B13: P112 | C13: 61 | D13: 水产经营
A14: 12 | B14: P113 | C14: 71 | D14: 水产经营
... A93: 91 | B93: PT17 | C93: 30 | D93: 水产经营
B94: 合计 | C94: =SUM(C3:C93) -> 5856

Sheet 北堤
A1: 夏商国际水产城北堤商业
A2: 序号 | B2: 店号 | C2: 面积（㎡） | D2: 用途
A3: 1 | B3: F4 | C3: 445 | D3: 水产经营
A4: 2 | B4: H04 | C4: 48 | D4: 餐饮
B5: 合计 | C5: =SUM(C3:C4) -> 493

Sheet Sheet1
C3: 区域 | D3: 一楼平均租金水平（元/㎡/月） （不含管理费卫生费16元/㎡/月） | G3: 二层平均租金水平（元/㎡） （不含管理费卫生费8元/㎡/月）
D4: 现执行标准 | E4: 招商后第一年至三年 | F4: 招商后第四年至五年 | G4: 现执行标准 | H4: 招商后第一年至三年 | I4: 招商后第四年至五年 | K4: 租金 | L4: 面积 | M4: 单价 | N4: 租金 | O4: 面积 | P4: 单价
C5: A区 | D5: ='A区 '!#REF! -> #REF! | E5: =D5 -> #REF! | F5: =E5*1.05 -> #REF! | G5: 34.17 | H5: =G5-4 -> 30.17 | I5: =H5*1.05 -> 31.68 | K5: ='A区 '!#REF! -> #REF! | L5: ='A区 '!C317 -> 22418.18 | M5: =K5/L5 -> #REF! | N5: ='A区 '!#REF! -> #REF! | O5: ='A区 '!E317 -> 21823.06 | P5: =N5/O5 -> #REF!
C6: B区 | D6: =B区!E59 -> 0 | E6: =D6 -> 0 | F6: =E6*1.05 -> 0 | G6: =B区!#REF! -> #REF! | H6: =G6-4 -> #REF! | I6: =H6*1.05 -> #REF! | K6: =B区!#REF! -> #REF! | L6: =B区!C56 -> 6221 | M6: =K6/L6 -> #REF! | N6: =B区!#REF! -> #REF! | O6: =B区!F56 -> 5847 | P6: =N6/O6 -> #REF!
C7: C区 | D7: =C区!#REF! -> #REF! | E7: =D7 -> #REF! | F7: =E7*1.05 -> #REF! | G7: =C区!G77 -> 0 | H7: =G7-4 -> -4 | I7: =H7*1.05 -> -4.2 | K7: =C区!#REF! -> #REF! | L7: =C区!C73 -> 4162.5 | M7: =K7/L7 -> #REF! | N7: =C区!#REF! -> #REF! | O7: =C区!F73 -> 1400 | P7: =N7/O7 -> #REF!
C8: D区 | D8: =#REF! -> #REF! | E8: =D8 -> #REF! | F8: =E8*1.05 -> #REF! | K8: =#REF! -> #REF! | L8: =#REF! -> #REF! | M8: =K8/L8 -> #REF!
C9: E区 | D9: =#REF! -> #REF! | E9: =D9 -> #REF! | F9: =E9*1.05 -> #REF! | K9: =#REF! -> #REF! | L9: =#REF! -> #REF! | M9: =K9/L9 -> #REF!
C10: P区 | D10: =P区店面!D97 -> 0 | E10: =D10+25 -> 25 | F10: =E10*1.05 -> 26.25 | K10: =P区店面!#REF! -> #REF! | L10: =P区店面!C94 -> 5856 | M10: =K10/L10 -> #REF!
C11: 北堤 | D11: =北堤!D8 -> 0 | E11: =D11 -> 0 | F11: =E11*1.05 -> 0 | K11: =北堤!#REF! -> #REF! | L11: =北堤!C5 -> 493 | M11: =K11/L11 -> #REF!
K12: =SUM(K5:K11) -> #REF! | L12: =SUM(L5:L11) -> #REF! | M12: =K12/L12 -> #REF! | N12: =SUM(N5:N11) -> #REF! | O12: =SUM(O5:O11) -> 29070.06 | P12: =N12/O12 -> #REF!
N14: =L12+O12 -> #REF!
K15: =K5+K6+K7 -> #REF! | L15: =L5+L6+L7 -> 32801.68 | M15: =K15/L15 -> #REF!

Sheet Sheet1 (2)
C3: 区域 | D3: 一楼平均租金水平（元/㎡/月） （不含管理费卫生费16元/㎡/月） | H3: 二层平均租金水平（元/㎡） （不含管理费卫生费8元/㎡/月，电商区域管理费卫生费4元/㎡/月）
D4: 到期前执行标准 | E4: 单价区间 | F4: 招商后第一年至三年 | G4: 招商后第四年至五年 | H4: 到期前执行标准 | I4: 单价区间 | J4: 招商后第一年至三年 | K4: 招商后第四年至五年 | N4: 租金 | O4: 面积 | P4: 单价 | Q4: 租金 | R4: 面积 | S4: 单价
C5: A区 | D5: 86.17 | E5: 82.43-91.93 | F5: =D5 -> 86.17 | G5: =F5*1.05 -> 90.48 | H5: 34.17 | I5: 33.60-38.85 | J5: =H5-4 -> 30.17 | K5: =J5*1.05 -> 31.68 | M5: A区 | N5: ='A区 '!#REF! -> #REF! | O5: ='A区 '!C321 -> 0 | P5: =N5/O5 -> #REF! | Q5: ='A区 '!#REF! -> #REF! | R5: ='A区 '!E317 -> 21823.06 | S5: =Q5/R5 -> #REF!
C6: B区 | D6: 82.87 | E6: 78.75-88.20 | F6: =D6 -> 82.87 | G6: =F6*1.05 -> 87.01 | H6: =B区!#REF! -> #REF! | I6: 28.35-33.60 | J6: =H6-4 -> #REF! | K6: =J6*1.05 -> #REF! | M6: B区 | N6: =B区!E60 -> 0 | O6: =B区!C60 -> 0 | P6: =N6/O6 -> #DIV/0! | Q6: =B区!#REF! -> #REF! | R6: 5847 | S6: =Q6/R6 -> #REF!
C7: C区 | D7: =C区!#REF! -> #REF! | E7: 80.85-88.68 | F7: =D7 -> #REF! | G7: =F7*1.05 -> #REF! | H7: =C区!G77 -> 0 | I7: 23.10-28.35 | J7: =H7-4 -> -4 | K7: =J7*1.05 -> -4.2 | M7: C区 | N7: =C区!E73 -> #REF! | O7: =C区!C73 -> 4162.5 | P7: =N7/O7 -> #REF! | Q7: =C区!#REF! -> #REF! | R7: =C区!F73 -> 1400 | S7: =Q7/R7 -> #REF!
C8: D区 | D8: =#REF! -> #REF! | E8: 78.75-90.85 | F8: =D8 -> #REF! | G8: =F8*1.05 -> #REF! | M8: D区 | N8: =#REF! -> #REF! | O8: =#REF! -> #REF! | P8: =N8/O8 -> #REF!
C9: E区 | D9: =#REF! -> #REF! | E9: 73.50-83.28 | F9: =D9 -> #REF! | G9: =F9*1.05 -> #REF! | M9: E区 | N9: =#REF! -> #REF! | O9: =#REF! -> #REF! | P9: =N9/O9 -> #REF!
C10: P区 | D10: =P区店面!#REF! -> #REF! | E10: 85.05-95.17 | F10: =D10+25 -> #REF! | G10: =F10*1.05 -> #REF! | M10: P区 | N10: =P区店面!#REF! -> #REF! | O10: =P区店面!C94 -> 5856 | P10: =N10/O10 -> #REF!
C11: 北堤 | D11: =北堤!#REF! -> #REF! | E11: 61.49-91.52 | F11: =D11 -> #REF! | G11: =F11*1.05 -> #REF! | M11: 北堤 | N11: =北堤!#REF! -> #REF! | O11: =北堤!C5 -> 493 | P11: =N11/O11 -> #REF!
C12: B区电商 | H12: 18.51 | I12: 14.00-22.00 | J12: 15.67 | K12: 16.46 | M12: B区电商 | N12: =R33 -> 144185.2 | O12: =Q33 -> 7788.55 | P12: =N12/O12 -> 18.51
N13: =SUM(N5:N12) -> #REF! | O13: =SUM(O5:O12) -> #REF! | P13: =N13/O13 -> #REF! | Q13: =SUM(Q5:Q11) -> #REF! | R13: =SUM(R5:R11) -> 29070.06 | S13: =Q13/R13 -> #REF!
Q15: =O13+R13 -> #REF!
N16: =N13-N12 -> #REF! | O16: =O13-O12 -> #REF! | P16: =N16/O16 -> #REF!
C17: 序号 | D17: 资产号 | F17: 资产面积（㎡） | G17: 到期时间 | H17: 租金底价 | J17: 最高限价 | K17: 备注
C18: 1 | D18: A095 | F18: 68.605 | G18: 46583 | H18: 86.52 | K18: 管理费卫生费16元/㎡/月
C19: 2 | D19: AT01 | F19: 54 | G19: 46873 | H19: 199.5 | K19: 管理费卫生费16元/㎡/月
C20: 3 | D20: YH01 | F20: 250 | G20: 46660 | H20: 97.24 | K20: 卫生费6.08、管理费6.08
C21: 4 | D21: Z301 | F21: 53 | G21: 46630 | H21: 47.25 | K21: 管理费卫生费16元/㎡/月
C22: 5 | D22: Z401 | F22: 300 | G22: 46996 | H22: 10 | K22: 卫生费1.67、管理费5
C23: 6 | D23: B61 | F23: 4326.55 | G23: 46356 | H23: 19.97 | K23: 卫生费0.56、管理费0.84 | N23: 19.97 | O23: =0.56+0.84 -> 1.4 | P23: =O23+N23-Q23 -> 17.37 | Q23: 4 | R23: =F23*H23 -> 86401.204 | S23: =P23*F23 -> 75152.174 | T23: =P23*1.05 -> 18.2385 | U23: =F23*T23 -> 78909.782
C24: 7 | D24: B62 | F24: 2074 | G24: 46752 | H24: 15 | K24: 无管理费卫生费 | N24: 15 | O24: 0 | P24: =O24+N24-Q24 -> 11 | Q24: 4 | R24: =F24*H24 -> 31110 | S24: =P24*F24 -> 22814 | T24: =P24*1.05 -> 11.55 | U24: =F24*T24 -> 23954.7
C25: 8 | D25: B63/2 | F25: 186 | G25: 46326 | H25: 20 | K25: 无管理费卫生费 | N25: 20 | O25: 0 | P25: =O25+N25-Q25 -> 16 | Q25: 4 | R25: =F25*H25 -> 3720 | S25: =P25*F25 -> 2976 | T25: =P25*1.05 -> 16.8 | U25: =F25*T25 -> 3124.8
C26: 9 | D26: B63/3 | F26: 190 | G26: 46326 | H26: 20 | K26: 无管理费卫生费 | N26: 20 | O26: 0 | P26: =O26+N26-Q26 -> 16 | Q26: 4 | R26: =F26*H26 -> 3800 | S26: =P26*F26 -> 3040 | T26: =P26*1.05 -> 16.8 | U26: =F26*T26 -> 3192
C27: 10 | D27: B63/4 | F27: 186 | G27: 47238 | H27: 18 | K27: 管理费卫生费8元/㎡/月 | N27: 18 | O27: 8 | P27: =O27+N27-Q27 -> 22 | Q27: 4 | R27: =F27*H27 -> 3348 | S27: =P27*F27 -> 4092 | T27: =P27*1.05 -> 23.1 | U27: =F27*T27 -> 4296.6
C28: 11 | D28: B63/5 | F28: 186 | G28: 46691 | H28: 14 | K28: 管理费卫生费8元/㎡/月 | N28: 14 | O28: 8 | P28: =O28+N28-Q28 -> 18 | Q28: 4 | R28: =F28*H28 -> 2604 | S28: =P28*F28 -> 3348 | T28: =P28*1.05 -> 18.9 | U28: =F28*T28 -> 3515.4
C29: 12 | D29: B63/6 | F29: 252 | G29: 46326 | H29: 20 | K29: 无管理费卫生费 | N29: 20 | O29: 0 | P29: =O29+N29-Q29 -> 16 | Q29: 4 | R29: =F29*H29 -> 5040 | S29: =P29*F29 -> 4032 | T29: =P29*1.05 -> 16.8 | U29: =F29*T29 -> 4233.6
C30: 13 | D30: B63/7 | F30: 187 | G30: 46326 | H30: 20 | K30: 无管理费卫生费 | N30: 20 | O30: 0 | P30: =O30+N30-Q30 -> 16 | Q30: 4 | R30: =F30*H30 -> 3740 | S30: =P30*F30 -> 2992 | T30: =P30*1.05 -> 16.8 | U30: =F30*T30 -> 3141.6
C31: 14 | D31: B63/8 | F31: 150 | G31: 46326 | H31: 22 | K31: 无管理费卫生费 | N31: 22 | O31: 0 | P31: =O31+N31-Q31 -> 18 | Q31: 4 | R31: =F31*H31 -> 3300 | S31: =P31*F31 -> 2700 | T31: =P31*1.05 -> 18.9 | U31: =F31*T31 -> 2835
C32: 15 | D32: B63/9 | F32: 51 | G32: 46326 | H32: 22 | K32: 无管理费卫生费 | N32: 22 | O32: 0 | P32: =O32+N32-Q32 -> 18 | Q32: 4 | R32: =F32*H32 -> 1122 | S32: =P32*F32 -> 918 | T32: =P32*1.05 -> 18.9 | U32: =F32*T32 -> 963.9
C33: 16 | D33: DY32 | F33: 32 | G33: 46538 | H33: 81.11 | K33: 管理费卫生费16元/㎡/月 | Q33: 7788.55 | R33: =SUM(R23:R32) -> 144185.2 | U33: =SUM(U23:U32) -> 128167.38
C34: 17 | D34: EY01 | F34: 126 | G34: 46599 | H34: 75.71 | K34: 管理费卫生费16元/㎡/月 | R34: =R33/Q33 -> 18.512458 | S34: =SUM(S23:S32) -> 122064.17
C35: 18 | D35: PT16 | F35: 18 | G35: 46752 | H35: 87.15 | K35: 管理费卫生费16元/㎡/月 | R35: =S34/Q33 -> 15.672259 | U35: =U33/Q33 -> 16.455872
C36: 19 | D36: PT17 | F36: 54 | G36: 46752 | H36: 87.15 | K36: 管理费卫生费16元/㎡/月 | R36: =R35*1.05 -> 16.455872
C37: 20 | D37: F3/2 | F37: 390 | G37: 47208 | H37: 71.66 | K37: 管理费卫生费16元/㎡/月
C38: 21 | D38: F5 | F38: 210 | G38: 46507 | H38: 86.52 | K38: 管理费卫生费16元/㎡/月
C39: 22 | D39: F6 | F39: 112 | G39: 46873 | H39: 86 | K39: 管理费卫生费20元/㎡/月
C40: 23 | D40: H01/1 | F40: 199.1 | G40: 46812 | H40: 84.11 | K40: 管理费卫生费16元/㎡/月
C41: 24 | D41: H01/2 | F41: 169.4 | G41: 46812 | H41: 84.11 | K41: 管理费卫生费16元/㎡/月
C42: 25 | D42: H01/3 | F42: 199.1 | G42: 46812 | H42: 84.11 | K42: 管理费卫生费16元/㎡/月
C43: 26 | D43: H01/4 | F43: 199.1 | G43: 46812 | H43: 84.11 | K43: 管理费卫生费16元/㎡/月
...

Sheet Sheet1 (3)
C3: 区域 | D3: 一楼平均租金水平（元/㎡/月） （不含管理费卫生费16元/㎡/月） | H3: 二层平均租金水平（元/㎡） （不含管理费卫生费8元/㎡/月，电商区域管理费卫生费4元/㎡/月）
D4: 到期前执行标准 | E4: 单价区间 | F4: 招商后第一年至三年 | G4: 招商后第四年至五年 | H4: 到期前执行标准 | I4: 单价区间 | J4: 招商后第一年至三年 | K4: 招商后第四年至五年 | M4: 交易区域 | N4: 租金 | O4: 面积（㎡） | P4: 现执行标准（元/㎡/月） | R4: 新执行标准（元/㎡/月） | S4: 月租金变化（元） | T4: 租金 | U4: 面积（㎡） | V4: 现执行标准（元/㎡/月） | W4: 新执行标准（元/㎡/月） | X4: 月租金变化（元）
C5: A区 | D5: 86.17 | E5: 82.43-91.93 | F5: =D5 -> 86.17 | G5: =F5*1.05 -> 90.48 | H5: 34.17 | I5: 33.60-38.85 | J5: =H5-4 -> 30.17 | K5: =J5*1.05 -> 31.68 | M5: A区 | N5: ='A区 '!#REF! -> #REF! | O5: ='A区 '!C321 -> 0 | P5: =N5/O5 -> #REF! | R5: =P5 -> #REF! | S5: =(R5-P5)*O5 -> #REF! | T5: ='A区 '!#REF! -> #REF! | U5: ='A区 '!E317 -> 21823.06 | V5: =T5/U5 -> #REF! | W5: =V5-4 -> #REF! | X5: =(W5-V5)*U5 -> #REF!
C6: B区 | D6: 82.87 | E6: 78.75-88.20 | F6: =D6 -> 82.87 | G6: =F6*1.05 -> 87.01 | H6: =B区!#REF! -> #REF! | I6: 28.35-33.60 | J6: =H6-4 -> #REF! | K6: =J6*1.05 -> #REF! | M6: B区 | N6: =B区!E60 -> 0 | O6: =B区!C60 -> 0 | P6: =N6/O6 -> #DIV/0! | R6: =P6 -> #DIV/0! | S6: =(R6-P6)*O6 -> #DIV/0! | T6: =B区!#REF! -> #REF! | U6: 5847 | V6: =T6/U6 -> #REF! | W6: =V6-4 -> #REF! | X6: =(W6-V6)*U6 -> #REF!
C7: C区 | D7: =C区!#REF! -> #REF! | E7: 80.85-88.68 | F7: =D7 -> #REF! | G7: =F7*1.05 -> #REF! | H7: =C区!G77 -> 0 | I7: 23.10-28.35 | J7: =H7-4 -> -4 | K7: =J7*1.05 -> -4.2 | M7: C区 | N7: =C区!E73 -> #REF! | O7: =C区!C73 -> 4162.5 | P7: =N7/O7 -> #REF! | R7: =P7 -> #REF! | S7: =(R7-P7)*O7 -> #REF! | T7: =C区!#REF! -> #REF! | U7: =C区!F73 -> 1400 | V7: =T7/U7 -> #REF! | W7: =V7-4 -> #REF! | X7: =(W7-V7)*U7 -> #REF!
C8: D区 | D8: =#REF! -> #REF! | E8: 78.75-90.85 | F8: =D8 -> #REF! | G8: =F8*1.05 -> #REF! | M8: D区 | N8: =#REF! -> #REF! | O8: =#REF! -> #REF! | P8: =N8/O8 -> #REF! | R8: =P8 -> #REF! | S8: =(R8-P8)*O8 -> #REF!
C9: E区 | D9: =#REF! -> #REF! | E9: 73.50-83.28 | F9: =D9 -> #REF! | G9: =F9*1.05 -> #REF! | M9: E区 | N9: =#REF! -> #REF! | O9: =#REF! -> #REF! | P9: =N9/O9 -> #REF! | R9: =P9 -> #REF! | S9: =(R9-P9)*O9 -> #REF!
C10: P区 | D10: =P区店面!#REF! -> #REF! | E10: 85.05-95.17 | F10: =D10+25 -> #REF! | G10: =F10*1.05 -> #REF! | M10: P区 | N10: =P区店面!#REF! -> #REF! | O10: =P区店面!C94 -> 5856 | P10: =N10/O10 -> #REF! | R10: =P10+25 -> #REF! | S10: =(R10-P10)*O10 -> #REF!
C11: 北堤 | D11: =北堤!#REF! -> #REF! | E11: 61.49-91.52 | F11: =D11 -> #REF! | G11: =F11*1.05 -> #REF! | M11: 北堤 | N11: =北堤!#REF! -> #REF! | O11: =北堤!C5 -> 493 | P11: =N11/O11 -> #REF! | R11: =P11 -> #REF! | S11: =(R11-P11)*O11 -> #REF!
C12: B区电商 | H12: 18.51 | I12: 14.00-22.00 | J12: 15.67 | K12: 16.46 | M12: B区电商 | N12: =U33 -> 144185.2 | O12: =T33 -> 7788.55 | P12: =N12/O12 -> 18.51 | R12: 15.67 | S12: =(R12-P12)*O12 -> -22119.48
N13: =SUM(N5:N12) -> #REF! | O13: =SUM(O5:O12) -> #REF! | P13: =N13/O13 -> #REF! | T13: =SUM(T5:T11) -> #REF! | U13: =SUM(U5:U11) -> 29070.06 | V13: =T13/U13 -> #REF!
T15: =O13+U13 -> #REF!
N16: =N13-N12 -> #REF! | O16: =O13-O12 -> #REF! | P16: =N16/O16 -> #REF!
C17: 序号 | D17: 资产号 | F17: 资产面积（㎡） | G17: 到期时间 | H17: 租金底价 | J17: 最高限价 | K17: 备注 | S17: =S10+X17 -> #REF! | X17: =SUM(X5:X16) -> #REF!
C18: 1 | D18: A095 | F18: 68.605 | G18: 46583 | H18: 86.52 | K18: 管理费卫生费16元/㎡/月
C19: 2 | D19: AT01 | F19: 54 | G19: 46873 | H19: 199.5 | K19: 管理费卫生费16元/㎡/月
C20: 3 | D20: YH01 | F20: 250 | G20: 46660 | H20: 97.24 | K20: 卫生费6.08、管理费6.08 | S20: =S17*12 -> #REF!
C21: 4 | D21: Z301 | F21: 53 | G21: 46630 | H21: 47.25 | K21: 管理费卫生费16元/㎡/月
C22: 5 | D22: Z401 | F22: 300 | G22: 46996 | H22: 10 | K22: 卫生费1.67、管理费5
C23: 6 | D23: B61 | F23: 4326.55 | G23: 46356 | H23: 19.97 | K23: 卫生费0.56、管理费0.84 | N23: 19.97 | O23: =0.56+0.84 -> 1.4 | P23: =O23+N23-T23 -> 17.37 | T23: 4 | U23: =F23*H23 -> 86401.204 | V23: =P23*F23 -> 75152.174 | W23: =P23*1.05 -> 18.2385 | X23: =F23*W23 -> 78909.782
C24: 7 | D24: B62 | F24: 2074 | G24: 46752 | H24: 15 | K24: 无管理费卫生费 | N24: 15 | O24: 0 | P24: =O24+N24-T24 -> 11 | T24: 4 | U24: =F24*H24 -> 31110 | V24: =P24*F24 -> 22814 | W24: =P24*1.05 -> 11.55 | X24: =F24*W24 -> 23954.7
C25: 8 | D25: B63/2 | F25: 186 | G25: 46326 | H25: 20 | K25: 无管理费卫生费 | N25: 20 | O25: 0 | P25: =O25+N25-T25 -> 16 | T25: 4 | U25: =F25*H25 -> 3720 | V25: =P25*F25 -> 2976 | W25: =P25*1.05 -> 16.8 | X25: =F25*W25 -> 3124.8
C26: 9 | D26: B63/3 | F26: 190 | G26: 46326 | H26: 20 | K26: 无管理费卫生费 | N26: 20 | O26: 0 | P26: =O26+N26-T26 -> 16 | T26: 4 | U26: =F26*H26 -> 3800 | V26: =P26*F26 -> 3040 | W26: =P26*1.05 -> 16.8 | X26: =F26*W26 -> 3192
C27: 10 | D27: B63/4 | F27: 186 | G27: 47238 | H27: 18 | K27: 管理费卫生费8元/㎡/月 | N27: 18 | O27: 8 | P27: =O27+N27-T27 -> 22 | T27: 4 | U27: =F27*H27 -> 3348 | V27: =P27*F27 -> 4092 | W27: =P27*1.05 -> 23.1 | X27: =F27*W27 -> 4296.6
C28: 11 | D28: B63/5 | F28: 186 | G28: 46691 | H28: 14 | K28: 管理费卫生费8元/㎡/月 | N28: 14 | O28: 8 | P28: =O28+N28-T28 -> 18 | T28: 4 | U28: =F28*H28 -> 2604 | V28: =P28*F28 -> 3348 | W28: =P28*1.05 -> 18.9 | X28: =F28*W28 -> 3515.4
C29: 12 | D29: B63/6 | F29: 252 | G29: 46326 | H29: 20 | K29: 无管理费卫生费 | N29: 20 | O29: 0 | P29: =O29+N29-T29 -> 16 | T29: 4 | U29: =F29*H29 -> 5040 | V29: =P29*F29 -> 4032 | W29: =P29*1.05 -> 16.8 | X29: =F29*W29 -> 4233.6
C30: 13 | D30: B63/7 | F30: 187 | G30: 46326 | H30: 20 | K30: 无管理费卫生费 | N30: 20 | O30: 0 | P30: =O30+N30-T30 -> 16 | T30: 4 | U30: =F30*H30 -> 3740 | V30: =P30*F30 -> 2992 | W30: =P30*1.05 -> 16.8 | X30: =F30*W30 -> 3141.6
C31: 14 | D31: B63/8 | F31: 150 | G31: 46326 | H31: 22 | K31: 无管理费卫生费 | N31: 22 | O31: 0 | P31: =O31+N31-T31 -> 18 | T31: 4 | U31: =F31*H31 -> 3300 | V31: =P31*F31 -> 2700 | W31: =P31*1.05 -> 18.9 | X31: =F31*W31 -> 2835
C32: 15 | D32: B63/9 | F32: 51 | G32: 46326 | H32: 22 | K32: 无管理费卫生费 | N32: 22 | O32: 0 | P32: =O32+N32-T32 -> 18 | T32: 4 | U32: =F32*H32 -> 1122 | V32: =P32*F32 -> 918 | W32: =P32*1.05 -> 18.9 | X32: =F32*W32 -> 963.9
C33: 16 | D33: DY32 | F33: 32 | G33: 46538 | H33: 81.11 | K33: 管理费卫生费16元/㎡/月 | T33: 7788.55 | U33: =SUM(U23:U32) -> 144185.2 | X33: =SUM(X23:X32) -> 128167.38
C34: 17 | D34: EY01 | F34: 126 | G34: 46599 | H34: 75.71 | K34: 管理费卫生费16元/㎡/月 | U34: =U33/T33 -> 18.512458 | V34: =SUM(V23:V32) -> 122064.17
C35: 18 | D35: PT16 | F35: 18 | G35: 46752 | H35: 87.15 | K35: 管理费卫生费16元/㎡/月 | U35: =V34/T33 -> 15.672259 | X35: =X33/T33 -> 16.455872
C36: 19 | D36: PT17 | F36: 54 | G36: 46752 | H36: 87.15 | K36: 管理费卫生费16元/㎡/月 | U36: =U35*1.05 -> 16.455872
C37: 20 | D37: F3/2 | F37: 390 | G37: 47208 | H37: 71.66 | K37: 管理费卫生费16元/㎡/月
C38: 21 | D38: F5 | F38: 210 | G38: 46507 | H38: 86.52 | K38: 管理费卫生费16元/㎡/月
C39: 22 | D39: F6 | F39: 112 | G39: 46873 | H39: 86 | K39: 管理费卫生费20元/㎡/月
C40: 23 | D40: H01/1 | F40: 199.1 | G40: 46812 | H40: 84.11 | K40: 管理费卫生费16元/㎡/月
C41: 24 | D41: H01/2 | F41: 169.4 | G41: 46812 | H41: 84.11 | K41: 管理费卫生费16元/㎡/月
C42: 25 | D42: H01/3 | F42: 199.1 | G42: 46812 | H42: 84.11 | K42: 管理费卫生费16元/㎡/月
C43: 26 | D43: H01/4 | F43: 199.1 | G43: 46812 | H43: 84.11 | K43: 管理费卫生费16元/㎡/月
...

Sheet Sheet1 (4)
C3: 区域 | D3: 一楼平均租金水平（元/㎡/月） （不含管理费卫生费16元/㎡/月） | M3: 二层平均租金水平（元/㎡） （不含管理费卫生费8元/㎡/月，电商区域管理费卫生费4元/㎡/月）
D4: 到期前执行标准 | E4: 管理费卫生费 | G4: 单价区间 | K4: 招商后第一年至三年 | L4: 招商后第四年至五年 | M4: 到期前执行标准 | N4: 单价区间 | O4: 招商后第一年至三年 | P4: 招商后第四年至五年 | R4: 交易区域 | S4: 租金 | T4: 面积（㎡） | U4: 现执行租金平均标准（元/㎡/月） | V4: 现管理费卫生费（元/㎡/月） | W4: 现执行标准合计（元/㎡/月） | X4: 新执行标准（元/㎡/月） | Y4: 新管理费卫生费（元/㎡/月） | Z4: 新执行标准合计（元/㎡/月） | AA4: 月收入变化（元） | AB4: 租金 | AC4: 面积（㎡） | AD4: 现执行租金平均标准（元/㎡/月） | AE4: 现管理费卫生费（元/㎡/月） | AF4: 现执行标准合计（元/㎡/月） | AG4: 新执行标准（元/㎡/月） | AH4: 新管理费卫生费（元/㎡/月） | AI4: 新执行标准合计（元/㎡/月） | AJ4: 月收入变化（元）
C5: A区 | D5: 86.17 | E5: 16 | G5: 82.43-91.93 | H5: 82.43 | J5: =G5*1.05 -> #VALUE! | K5: =D5 -> 86.17 | L5: =K5*1.05 -> 90.48 | M5: 34.17 | N5: 33.60-38.85 | O5: =M5-4 -> 30.17 | P5: =O5*1.05 -> 31.68 | R5: A区 | S5: ='A区 '!#REF! -> #REF! | T5: ='A区 '!C321 -> 0 | U5: =S5/T5 -> #REF! | V5: 16 | W5: =U5+V5 -> #REF! | X5: =U5 -> #REF! | Y5: 16 | Z5: =X5+Y5 -> #REF! | AA5: =(X5-U5)*T5 -> #REF! | AB5: ='A区 '!#REF! -> #REF! | AC5: ='A区 '!E317 -> 21823.06 | AD5: =AB5/AC5 -> #REF! | AE5: 8 | AF5: =AD5+AE5 -> #REF! | AG5: =AD5-4 -> #REF! | AH5: 8 | AI5: =AG5+AH5 -> #REF! | AJ5: =(AG5-AD5)*AC5 -> #REF!
C6: B区 | D6: 82.87 | E6: 16 | G6: 78.75-88.20 | K6: =D6 -> 82.87 | L6: =K6*1.05 -> 87.01 | M6: =B区!#REF! -> #REF! | N6: 28.35-33.60 | O6: =M6-4 -> #REF! | P6: =O6*1.05 -> #REF! | R6: B区 | S6: =B区!E60 -> 0 | T6: =B区!C60 -> 0 | U6: =S6/T6 -> #DIV/0! | V6: 16 | W6: =U6+V6 -> #DIV/0! | X6: =U6 -> #DIV/0! | Y6: 16 | Z6: =X6+Y6 -> #DIV/0! | AA6: =(X6-U6)*T6 -> #DIV/0! | AB6: =B区!#REF! -> #REF! | AC6: 5847 | AD6: =AB6/AC6 -> #REF! | AE6: 8 | AF6: =AD6+AE6 -> #REF! | AG6: =AD6-4 -> #REF! | AH6: 8 | AI6: =AG6+AH6 -> #REF! | AJ6: =(AG6-AD6)*AC6 -> #REF!
C7: C区 | D7: =C区!#REF! -> #REF! | E7: 16 | G7: 80.85-88.68 | K7: =D7 -> #REF! | L7: =K7*1.05 -> #REF! | M7: =C区!G77 -> 0 | N7: 23.10-28.35 | O7: =M7-4 -> -4 | P7: =O7*1.05 -> -4.2 | R7: C区 | S7: =C区!E73 -> #REF! | T7: =C区!C73 -> 4162.5 | U7: =S7/T7 -> #REF! | V7: 16 | W7: =U7+V7 -> #REF! | X7: =U7 -> #REF! | Y7: 16 | Z7: =X7+Y7 -> #REF! | AA7: =(X7-U7)*T7 -> #REF! | AB7: =C区!#REF! -> #REF! | AC7: =C区!F73 -> 1400 | AD7: =AB7/AC7 -> #REF! | AE7: 8 | AF7: =AD7+AE7 -> #REF! | AG7: =AD7-4 -> #REF! | AH7: 8 | AI7: =AG7+AH7 -> #REF! | AJ7: =(AG7-AD7)*AC7 -> #REF!
C8: D区 | D8: =#REF! -> #REF! | E8: 16 | G8: 78.75-90.85 | K8: =D8 -> #REF! | L8: =K8*1.05 -> #REF! | R8: D区 | S8: =#REF! -> #REF! | T8: =#REF! -> #REF! | U8: =S8/T8 -> #REF! | V8: 16 | W8: =U8+V8 -> #REF! | X8: =U8 -> #REF! | Y8: 16 | Z8: =X8+Y8 -> #REF! | AA8: =(X8-U8)*T8 -> #REF!
C9: E区 | D9: =#REF! -> #REF! | E9: 16 | G9: 73.50-83.28 | K9: =D9 -> #REF! | L9: =K9*1.05 -> #REF! | R9: E区 | S9: =#REF! -> #REF! | T9: =#REF! -> #REF! | U9: =S9/T9 -> #REF! | V9: 16 | W9: =U9+V9 -> #REF! | X9: =U9 -> #REF! | Y9: 16 | Z9: =X9+Y9 -> #REF! | AA9: =(X9-U9)*T9 -> #REF!
C10: P区 | D10: =P区店面!#REF! -> #REF! | E10: 16 | G10: 85.05-95.17 | K10: =D10+25 -> #REF! | L10: =K10*1.05 -> #REF! | R10: P区 | S10: =P区店面!#REF! -> #REF! | T10: =P区店面!C94 -> 5856 | U10: =S10/T10 -> #REF! | V10: 16 | W10: =U10+V10 -> #REF! | X10: =U10+10 -> #REF! | Y10: 16 | Z10: =X10+Y10 -> #REF! | AA10: =(X10-U10)*T10 -> #REF!
C11: 北堤 | D11: =北堤!#REF! -> #REF! | E11: 16 | G11: 61.49-91.52 | K11: =D11 -> #REF! | L11: =K11*1.05 -> #REF! | R11: 北堤 | S11: =北堤!#REF! -> #REF! | T11: =北堤!C5 -> 493 | U11: =S11/T11 -> #REF! | V11: 16 | W11: =U11+V11 -> #REF! | X11: =U11 -> #REF! | Y11: 16 | Z11: =X11+Y11 -> #REF! | AA11: =(X11-U11)*T11 -> #REF!
C12: B区电商 | M12: 18.51 | N12: 14.00-22.00 | O12: 15.67 | P12: 16.46 | R12: B区电商 | S12: =AC33 -> 144185.2 | AC12: =AB33 -> 7788.55 | AD12: 18.51 | AE12: 标准不一 | AF12: 19.67 | AG12: 15.67 | AH12: 4 | AI12: =AG12+AH12 -> 19.67 | AJ12: 0
S13: =SUM(S5:S12) -> #REF! | T13: =SUM(T5:T12) -> #REF! | U13: =S13/T13 -> #REF! | AB13: =SUM(AB5:AB11) -> #REF! | AC13: =SUM(AC5:AC11) -> 29070.06 | AD13: =AB13/AC13 -> #REF!
AB15: =T13+AC13 -> #REF!
S16: =S13-S12 -> #REF! | T16: =T13-T12 -> #REF! | U16: =S16/T16 -> #REF!
C17: 序号 | D17: 资产号 | K17: 资产面积（㎡） | L17: 到期时间 | M17: 租金底价 | O17: 最高限价 | P17: 备注 | AA17: =AA10+AJ17 -> #REF! | AJ17: =SUM(AJ5:AJ16) -> #REF!
C18: 1 | D18: A095 | K18: 68.605 | L18: 46583 | M18: 86.52 | P18: 管理费卫生费16元/㎡/月
C19: 2 | D19: AT01 | K19: 54 | L19: 46873 | M19: 199.5 | P19: 管理费卫生费16元/㎡/月
C20: 3 | D20: YH01 | K20: 250 | L20: 46660 | M20: 97.24 | P20: 卫生费6.08、管理费6.08 | AA20: =AA17*12 -> #REF!
C21: 4 | D21: Z301 | K21: 53 | L21: 46630 | M21: 47.25 | P21: 管理费卫生费16元/㎡/月
C22: 5 | D22: Z401 | K22: 300 | L22: 46996 | M22: 10 | P22: 卫生费1.67、管理费5
C23: 6 | D23: B61 | K23: 4326.55 | L23: 46356 | M23: 19.97 | P23: 卫生费0.56、管理费0.84 | S23: 19.97 | T23: =0.56+0.84 -> 1.4 | U23: =T23+S23-AB23 -> 17.37 | AB23: 4 | AC23: =K23*M23 -> 86401.204 | AD23: =U23*K23 -> 75152.174 | AG23: =U23*1.05 -> 18.2385 | AJ23: =K23*AG23 -> 78909.782
C24: 7 | D24: B62 | K24: 2074 | L24: 46752 | M24: 15 | P24: 无管理费卫生费 | S24: 15 | T24: 0 | U24: =T24+S24-AB24 -> 11 | AB24: 4 | AC24: =K24*M24 -> 31110 | AD24: =U24*K24 -> 22814 | AG24: =U24*1.05 -> 11.55 | AJ24: =K24*AG24 -> 23954.7
C25: 8 | D25: B63/2 | K25: 186 | L25: 46326 | M25: 20 | P25: 无管理费卫生费 | S25: 20 | T25: 0 | U25: =T25+S25-AB25 -> 16 | AB25: 4 | AC25: =K25*M25 -> 3720 | AD25: =U25*K25 -> 2976 | AG25: =U25*1.05 -> 16.8 | AJ25: =K25*AG25 -> 3124.8
C26: 9 | D26: B63/3 | K26: 190 | L26: 46326 | M26: 20 | P26: 无管理费卫生费 | S26: 20 | T26: 0 | U26: =T26+S26-AB26 -> 16 | AB26: 4 | AC26: =K26*M26 -> 3800 | AD26: =U26*K26 -> 3040 | AG26: =U26*1.05 -> 16.8 | AJ26: =K26*AG26 -> 3192
C27: 10 | D27: B63/4 | K27: 186 | L27: 47238 | M27: 18 | P27: 管理费卫生费8元/㎡/月 | S27: 18 | T27: 8 | U27: =T27+S27-AB27 -> 22 | AB27: 4 | AC27: =K27*M27 -> 3348 | AD27: =U27*K27 -> 4092 | AG27: =U27*1.05 -> 23.1 | AJ27: =K27*AG27 -> 4296.6
C28: 11 | D28: B63/5 | K28: 186 | L28: 46691 | M28: 14 | P28: 管理费卫生费8元/㎡/月 | S28: 14 | T28: 8 | U28: =T28+S28-AB28 -> 18 | AB28: 4 | AC28: =K28*M28 -> 2604 | AD28: =U28*K28 -> 3348 | AG28: =U28*1.05 -> 18.9 | AJ28: =K28*AG28 -> 3515.4
C29: 12 | D29: B63/6 | K29: 252 | L29: 46326 | M29: 20 | P29: 无管理费卫生费 | S29: 20 | T29: 0 | U29: =T29+S29-AB29 -> 16 | AB29: 4 | AC29: =K29*M29 -> 5040 | AD29: =U29*K29 -> 4032 | AG29: =U29*1.05 -> 16.8 | AJ29: =K29*AG29 -> 4233.6
C30: 13 | D30: B63/7 | K30: 187 | L30: 46326 | M30: 20 | P30: 无管理费卫生费 | S30: 20 | T30: 0 | U30: =T30+S30-AB30 -> 16 | AB30: 4 | AC30: =K30*M30 -> 3740 | AD30: =U30*K30 -> 2992 | AG30: =U30*1.05 -> 16.8 | AJ30: =K30*AG30 -> 3141.6
C31: 14 | D31: B63/8 | K31: 150 | L31: 46326 | M31: 22 | P31: 无管理费卫生费 | S31: 22 | T31: 0 | U31: =T31+S31-AB31 -> 18 | AB31: 4 | AC31: =K31*M31 -> 3300 | AD31: =U31*K31 -> 2700 | AG31: =U31*1.05 -> 18.9 | AJ31: =K31*AG31 -> 2835
C32: 15 | D32: B63/9 | K32: 51 | L32: 46326 | M32: 22 | P32: 无管理费卫生费 | S32: 22 | T32: 0 | U32: =T32+S32-AB32 -> 18 | AB32: 4 | AC32: =K32*M32 -> 1122 | AD32: =U32*K32 -> 918 | AG32: =U32*1.05 -> 18.9 | AJ32: =K32*AG32 -> 963.9
C33: 16 | D33: DY32 | K33: 32 | L33: 46538 | M33: 81.11 | P33: 管理费卫生费16元/㎡/月 | AB33: 7788.55 | AC33: =SUM(AC23:AC32) -> 144185.2 | AJ33: =SUM(AJ23:AJ32) -> 128167.38
C34: 17 | D34: EY01 | K34: 126 | L34: 46599 | M34: 75.71 | P34: 管理费卫生费16元/㎡/月 | AC34: =AC33/AB33 -> 18.512458 | AD34: =SUM(AD23:AD32) -> 122064.17
C35: 18 | D35: PT16 | K35: 18 | L35: 46752 | M35: 87.15 | P35: 管理费卫生费16元/㎡/月 | AC35: =AD34/AB33 -> 15.672259 | AJ35: =AJ33/AB33 -> 16.455872
C36: 19 | D36: PT17 | K36: 54 | L36: 46752 | M36: 87.15 | P36: 管理费卫生费16元/㎡/月 | AC36: =AC35*1.05 -> 16.455872
C37: 20 | D37: F3/2 | K37: 390 | L37: 47208 | M37: 71.66 | P37: 管理费卫生费16元/㎡/月
C38: 21 | D38: F5 | K38: 210 | L38: 46507 | M38: 86.52 | P38: 管理费卫生费16元/㎡/月
C39: 22 | D39: F6 | K39: 112 | L39: 46873 | M39: 86 | P39: 管理费卫生费20元/㎡/月
C40: 23 | D40: H01/1 | K40: 199.1 | L40: 46812 | M40: 84.11 | P40: 管理费卫生费16元/㎡/月
C41: 24 | D41: H01/2 | K41: 169.4 | L41: 46812 | M41: 84.11 | P41: 管理费卫生费16元/㎡/月
C42: 25 | D42: H01/3 | K42: 199.1 | L42: 46812 | M42: 84.11 | P42: 管理费卫生费16元/㎡/月
C43: 26 | D43: H01/4 | K43: 199.1 | L43: 46812 | M43: 84.11 | P43: 管理费卫生费16元/㎡/月
...

Sheet 汇总
A1: 序号 | B1: 本次招商范围及基本情况
B2: 区域 | C2: 一层店面、摊位 | E2: 二层办公 | G2: 拟招商业态
C3: 数量（个） | D3: 建筑面积 | E3: 数量（个） | F3: 建筑面积
A4: 1 | B4: A区 | C4: 314 | D4: 22418.175 | E4: 302 | F4: 21823.055 | G4: 活鲜、餐饮
A5: 2 | B5: B区 | C5: 52 | D5: 6221 | E5: 47 | F5: 5847 | G5: 活鲜、冰鲜、餐饮、电商
A6: 3 | B6: C区 | C6: 70 | D6: 4162.5 | E6: 14 | F6: 1400 | G6: 活鲜、冰鲜、餐饮
A7: 4 | B7: P区 | C7: 91 | D7: 5856 | G7: 活鲜
A8: 5 | B8: 北堤 | C8: 2 | D8: =445+48 -> 493 | G8: 活鲜、餐饮
B9: 合计 | C9: =SUM(C4:C8) -> 529 | D9: =SUM(D4:D8) -> 39150.675 | E9: =SUM(E4:E8) -> 363 | F9: =SUM(F4:F8) -> 29070.055
